BEGIN:VCALENDAR
VERSION:2.0
PRODID:-//Nortonville Public Library - ECPv6.15.20//NONSGML v1.0//EN
CALSCALE:GREGORIAN
METHOD:PUBLISH
X-ORIGINAL-URL:https://nortonvillelibrary.org
X-WR-CALDESC:Events for Nortonville Public Library
REFRESH-INTERVAL;VALUE=DURATION:PT1H
X-Robots-Tag:noindex
X-PUBLISHED-TTL:PT1H
BEGIN:VTIMEZONE
TZID:America/Chicago
BEGIN:DAYLIGHT
TZOFFSETFROM:-0600
TZOFFSETTO:-0500
TZNAME:CDT
DTSTART:20230312T080000
END:DAYLIGHT
BEGIN:STANDARD
TZOFFSETFROM:-0500
TZOFFSETTO:-0600
TZNAME:CST
DTSTART:20231105T070000
END:STANDARD
BEGIN:DAYLIGHT
TZOFFSETFROM:-0600
TZOFFSETTO:-0500
TZNAME:CDT
DTSTART:20240310T080000
END:DAYLIGHT
BEGIN:STANDARD
TZOFFSETFROM:-0500
TZOFFSETTO:-0600
TZNAME:CST
DTSTART:20241103T070000
END:STANDARD
BEGIN:DAYLIGHT
TZOFFSETFROM:-0600
TZOFFSETTO:-0500
TZNAME:CDT
DTSTART:20250309T080000
END:DAYLIGHT
BEGIN:STANDARD
TZOFFSETFROM:-0500
TZOFFSETTO:-0600
TZNAME:CST
DTSTART:20251102T070000
END:STANDARD
END:VTIMEZONE
BEGIN:VEVENT
DTSTART;TZID=America/Chicago:20240619T183000
DTEND;TZID=America/Chicago:20240619T203000
DTSTAMP:20260421T153642
CREATED:20240606T235542Z
LAST-MODIFIED:20240606T235542Z
UID:1244-1718821800-1718829000@nortonvillelibrary.org
SUMMARY:Adult Paint Night: Sunset Campfire
DESCRIPTION:Follow along with a virtual paint instructor to create your own “Sunset Campfire” painting. All skill levels welcome\, we don’t judge!! Open to teens and adults.
URL:https://nortonvillelibrary.org/event/adult-paint-night-sunset-campfire/
LOCATION:Nortonville Public Library\, 407 Main St\, Nortonville\, KS\, 66060\, United States
CATEGORIES:Adults
ORGANIZER;CN="Nortonville Public Library":MAILTO:director@nortonvillelibrary.org
END:VEVENT
BEGIN:VEVENT
DTSTART;TZID=America/Chicago:20240621T170000
DTEND;TZID=America/Chicago:20240621T180000
DTSTAMP:20260421T153642
CREATED:20240606T235307Z
LAST-MODIFIED:20240606T235307Z
UID:1239-1718989200-1718992800@nortonvillelibrary.org
SUMMARY:Master Gardener Info Session
DESCRIPTION:If you love to garden\, then we have the perfect opportunity for you!K-State’s Extension Master Gardener (EMG) Course consists of 40 hours of training with K-State specialists\, followed by 40 hours of environmental volunteer work in your community. \nJoin us for a meet and greet and informational session to learn more about the program and how you can get involved!If you have already attended an EMG info session\, you do not need to attend a second one.
URL:https://nortonvillelibrary.org/event/master-gardener-info-session/
LOCATION:Nortonville Public Library\, 407 Main St\, Nortonville\, KS\, 66060\, United States
CATEGORIES:Adults
ORGANIZER;CN="Nortonville Public Library":MAILTO:director@nortonvillelibrary.org
END:VEVENT
BEGIN:VEVENT
DTSTART;TZID=America/Chicago:20240628T183000
DTEND;TZID=America/Chicago:20240628T203000
DTSTAMP:20260421T153642
CREATED:20240607T000149Z
LAST-MODIFIED:20240607T000149Z
UID:1250-1719599400-1719606600@nortonvillelibrary.org
SUMMARY:Adult Craft Night: Paint By Numbers
DESCRIPTION:Join us for another relaxing\, low pressure craft night with chatting and painting by numbers! We have several gorgeous travel scenes and landscape paintings to choose from. Free and open to teens and adults. Please RSVP to secure a spot.
URL:https://nortonvillelibrary.org/event/adult-craft-night-paint-by-numbers/
LOCATION:Nortonville Public Library\, 407 Main St\, Nortonville\, KS\, 66060\, United States
CATEGORIES:Adults,Teens
ORGANIZER;CN="Nortonville Public Library":MAILTO:director@nortonvillelibrary.org
END:VEVENT
END:VCALENDAR