BEGIN:VCALENDAR
VERSION:2.0
PRODID:-//Nortonville Public Library - ECPv6.15.20//NONSGML v1.0//EN
CALSCALE:GREGORIAN
METHOD:PUBLISH
X-ORIGINAL-URL:http://nortonvillelibrary.org
X-WR-CALDESC:Events for Nortonville Public Library
REFRESH-INTERVAL;VALUE=DURATION:PT1H
X-Robots-Tag:noindex
X-PUBLISHED-TTL:PT1H
BEGIN:VTIMEZONE
TZID:America/Chicago
BEGIN:DAYLIGHT
TZOFFSETFROM:-0600
TZOFFSETTO:-0500
TZNAME:CDT
DTSTART:20210314T080000
END:DAYLIGHT
BEGIN:STANDARD
TZOFFSETFROM:-0500
TZOFFSETTO:-0600
TZNAME:CST
DTSTART:20211107T070000
END:STANDARD
BEGIN:DAYLIGHT
TZOFFSETFROM:-0600
TZOFFSETTO:-0500
TZNAME:CDT
DTSTART:20220313T080000
END:DAYLIGHT
BEGIN:STANDARD
TZOFFSETFROM:-0500
TZOFFSETTO:-0600
TZNAME:CST
DTSTART:20221106T070000
END:STANDARD
BEGIN:DAYLIGHT
TZOFFSETFROM:-0600
TZOFFSETTO:-0500
TZNAME:CDT
DTSTART:20230312T080000
END:DAYLIGHT
BEGIN:STANDARD
TZOFFSETFROM:-0500
TZOFFSETTO:-0600
TZNAME:CST
DTSTART:20231105T070000
END:STANDARD
END:VTIMEZONE
BEGIN:VEVENT
DTSTART;TZID=America/Chicago:20221119T180000
DTEND;TZID=America/Chicago:20221119T210000
DTSTAMP:20260423T213001
CREATED:20221115T172119Z
LAST-MODIFIED:20221115T172119Z
UID:928-1668880800-1668891600@nortonvillelibrary.org
SUMMARY:Dungeons and Dragons
DESCRIPTION:We meet on Saturdays from 6-9pm. \nEveryone is welcome. If you already have characters\, die\, etc\, bring them. Otherwise\, we’ll provide what you need!
URL:http://nortonvillelibrary.org/event/dungeons-and-dragons-3/
LOCATION:Nortonville Public Library\, 407 Main St\, Nortonville\, KS\, 66060\, United States
END:VEVENT
END:VCALENDAR