BEGIN:VCALENDAR
VERSION:2.0
PRODID:-//Nortonville Public Library - ECPv6.15.20//NONSGML v1.0//EN
CALSCALE:GREGORIAN
METHOD:PUBLISH
X-WR-CALNAME:Nortonville Public Library
X-ORIGINAL-URL:http://nortonvillelibrary.org
X-WR-CALDESC:Events for Nortonville Public Library
REFRESH-INTERVAL;VALUE=DURATION:PT1H
X-Robots-Tag:noindex
X-PUBLISHED-TTL:PT1H
BEGIN:VTIMEZONE
TZID:America/Chicago
BEGIN:DAYLIGHT
TZOFFSETFROM:-0600
TZOFFSETTO:-0500
TZNAME:CDT
DTSTART:20210314T080000
END:DAYLIGHT
BEGIN:STANDARD
TZOFFSETFROM:-0500
TZOFFSETTO:-0600
TZNAME:CST
DTSTART:20211107T070000
END:STANDARD
BEGIN:DAYLIGHT
TZOFFSETFROM:-0600
TZOFFSETTO:-0500
TZNAME:CDT
DTSTART:20220313T080000
END:DAYLIGHT
BEGIN:STANDARD
TZOFFSETFROM:-0500
TZOFFSETTO:-0600
TZNAME:CST
DTSTART:20221106T070000
END:STANDARD
BEGIN:DAYLIGHT
TZOFFSETFROM:-0600
TZOFFSETTO:-0500
TZNAME:CDT
DTSTART:20230312T080000
END:DAYLIGHT
BEGIN:STANDARD
TZOFFSETFROM:-0500
TZOFFSETTO:-0600
TZNAME:CST
DTSTART:20231105T070000
END:STANDARD
END:VTIMEZONE
BEGIN:VEVENT
DTSTART;TZID=America/Chicago:20221007T160000
DTEND;TZID=America/Chicago:20221007T170000
DTSTAMP:20260424T002416
CREATED:20220921T180434Z
LAST-MODIFIED:20220921T180434Z
UID:879-1665158400-1665162000@nortonvillelibrary.org
SUMMARY:Friday Fun: Halloween Plushies
DESCRIPTION:Every Friday afternoon during the school year\, we will have an activity or craft for kids to do. Free and open to all ages! \nThis week: Halloween Plushies
URL:http://nortonvillelibrary.org/event/friday-fun-halloween-plushies/
LOCATION:Nortonville Public Library\, 407 Main St\, Nortonville\, KS\, 66060\, United States
CATEGORIES:all ages
END:VEVENT
END:VCALENDAR