BEGIN:VCALENDAR
VERSION:2.0
PRODID:-//Nortonville Public Library - ECPv6.15.20//NONSGML v1.0//EN
CALSCALE:GREGORIAN
METHOD:PUBLISH
X-WR-CALNAME:Nortonville Public Library
X-ORIGINAL-URL:http://nortonvillelibrary.org
X-WR-CALDESC:Events for Nortonville Public Library
REFRESH-INTERVAL;VALUE=DURATION:PT1H
X-Robots-Tag:noindex
X-PUBLISHED-TTL:PT1H
BEGIN:VTIMEZONE
TZID:America/Chicago
BEGIN:DAYLIGHT
TZOFFSETFROM:-0600
TZOFFSETTO:-0500
TZNAME:CDT
DTSTART:20210314T080000
END:DAYLIGHT
BEGIN:STANDARD
TZOFFSETFROM:-0500
TZOFFSETTO:-0600
TZNAME:CST
DTSTART:20211107T070000
END:STANDARD
BEGIN:DAYLIGHT
TZOFFSETFROM:-0600
TZOFFSETTO:-0500
TZNAME:CDT
DTSTART:20220313T080000
END:DAYLIGHT
BEGIN:STANDARD
TZOFFSETFROM:-0500
TZOFFSETTO:-0600
TZNAME:CST
DTSTART:20221106T070000
END:STANDARD
BEGIN:DAYLIGHT
TZOFFSETFROM:-0600
TZOFFSETTO:-0500
TZNAME:CDT
DTSTART:20230312T080000
END:DAYLIGHT
BEGIN:STANDARD
TZOFFSETFROM:-0500
TZOFFSETTO:-0600
TZNAME:CST
DTSTART:20231105T070000
END:STANDARD
END:VTIMEZONE
BEGIN:VEVENT
DTSTART;TZID=America/Chicago:20221104T160000
DTEND;TZID=America/Chicago:20221104T170000
DTSTAMP:20260423T194736
CREATED:20220921T181451Z
LAST-MODIFIED:20220921T181451Z
UID:885-1667577600-1667581200@nortonvillelibrary.org
SUMMARY:Friday Fun: Ceramic Owls
DESCRIPTION:Every Friday afternoon during the school year\, we will have an activity or craft for kids to do. Free and open to all ages! \nThis week: Ceramic Owl
URL:http://nortonvillelibrary.org/event/friday-fun-ceramic-owls/
LOCATION:Nortonville Public Library\, 407 Main St\, Nortonville\, KS\, 66060\, United States
CATEGORIES:all ages
END:VEVENT
BEGIN:VEVENT
DTSTART;TZID=America/Chicago:20221116T183000
DTEND;TZID=America/Chicago:20221116T203000
DTSTAMP:20260423T194736
CREATED:20221020T145000Z
LAST-MODIFIED:20221020T145000Z
UID:898-1668623400-1668630600@nortonvillelibrary.org
SUMMARY:Adult Craft-Tiered Trays
DESCRIPTION:We’re making tiered trays that can be decorated for each holiday/season\, plus a few little decorations to get yours started. Please RSVP if you plan to attend. \nThe event is free (although free will donations are always welcome)\, and open to ages 18+.
URL:http://nortonvillelibrary.org/event/adult-craft-tiered-trays/
LOCATION:Nortonville Public Library\, 407 Main St\, Nortonville\, KS\, 66060\, United States
CATEGORIES:Adults
ATTACH;FMTTYPE=image/png:http://nortonvillelibrary.org/wp-content/uploads/sites/12/2022/10/tiered.png
END:VEVENT
BEGIN:VEVENT
DTSTART;TZID=America/Chicago:20221119T180000
DTEND;TZID=America/Chicago:20221119T210000
DTSTAMP:20260423T194737
CREATED:20221115T172119Z
LAST-MODIFIED:20221115T172119Z
UID:928-1668880800-1668891600@nortonvillelibrary.org
SUMMARY:Dungeons and Dragons
DESCRIPTION:We meet on Saturdays from 6-9pm. \nEveryone is welcome. If you already have characters\, die\, etc\, bring them. Otherwise\, we’ll provide what you need!
URL:http://nortonvillelibrary.org/event/dungeons-and-dragons-3/
LOCATION:Nortonville Public Library\, 407 Main St\, Nortonville\, KS\, 66060\, United States
END:VEVENT
END:VCALENDAR