BEGIN:VCALENDAR
VERSION:2.0
PRODID:-//Nortonville Public Library - ECPv6.15.20//NONSGML v1.0//EN
CALSCALE:GREGORIAN
METHOD:PUBLISH
X-ORIGINAL-URL:http://nortonvillelibrary.org
X-WR-CALDESC:Events for Nortonville Public Library
REFRESH-INTERVAL;VALUE=DURATION:PT1H
X-Robots-Tag:noindex
X-PUBLISHED-TTL:PT1H
BEGIN:VTIMEZONE
TZID:America/Chicago
BEGIN:DAYLIGHT
TZOFFSETFROM:-0600
TZOFFSETTO:-0500
TZNAME:CDT
DTSTART:20210314T080000
END:DAYLIGHT
BEGIN:STANDARD
TZOFFSETFROM:-0500
TZOFFSETTO:-0600
TZNAME:CST
DTSTART:20211107T070000
END:STANDARD
BEGIN:DAYLIGHT
TZOFFSETFROM:-0600
TZOFFSETTO:-0500
TZNAME:CDT
DTSTART:20220313T080000
END:DAYLIGHT
BEGIN:STANDARD
TZOFFSETFROM:-0500
TZOFFSETTO:-0600
TZNAME:CST
DTSTART:20221106T070000
END:STANDARD
BEGIN:DAYLIGHT
TZOFFSETFROM:-0600
TZOFFSETTO:-0500
TZNAME:CDT
DTSTART:20230312T080000
END:DAYLIGHT
BEGIN:STANDARD
TZOFFSETFROM:-0500
TZOFFSETTO:-0600
TZNAME:CST
DTSTART:20231105T070000
END:STANDARD
END:VTIMEZONE
BEGIN:VEVENT
DTSTART;TZID=America/Chicago:20220902T160000
DTEND;TZID=America/Chicago:20220902T170000
DTSTAMP:20260424T073918
CREATED:20220829T213656Z
LAST-MODIFIED:20220829T213656Z
UID:850-1662134400-1662138000@nortonvillelibrary.org
SUMMARY:Friday Fun for Kids: Clay Bead Bracelets
DESCRIPTION:Every Friday afternoon during the school year\, we will have an activity or craft for kids to do. Free and open to all ages! This week: charm/clay bead bracelets.
URL:http://nortonvillelibrary.org/event/friday-fun-for-kids-clay-bead-bracelets/
LOCATION:Nortonville Public Library\, 407 Main St\, Nortonville\, KS\, 66060\, United States
CATEGORIES:all ages
END:VEVENT
BEGIN:VEVENT
DTSTART;TZID=America/Chicago:20220909T160000
DTEND;TZID=America/Chicago:20220909T170000
DTSTAMP:20260424T073918
CREATED:20220829T213838Z
LAST-MODIFIED:20220829T213838Z
UID:852-1662739200-1662742800@nortonvillelibrary.org
SUMMARY:Friday Fun For Kids: Painted Rocks
DESCRIPTION:Every Friday afternoon during the school year\, we will have an activity or craft for kids to do. Free and open to all ages! This week: rock painting.
URL:http://nortonvillelibrary.org/event/friday-fun-for-kids-painted-rocks/
LOCATION:Nortonville Public Library\, 407 Main St\, Nortonville\, KS\, 66060\, United States
CATEGORIES:all ages
END:VEVENT
BEGIN:VEVENT
DTSTART;TZID=America/Chicago:20220913T100000
DTEND;TZID=America/Chicago:20220913T110000
DTSTAMP:20260424T073918
CREATED:20220912T185108Z
LAST-MODIFIED:20220912T185108Z
UID:863-1663063200-1663066800@nortonvillelibrary.org
SUMMARY:Storytime
DESCRIPTION:Football!  Includes stories\, crafts\, and treats. Younger Children.
URL:http://nortonvillelibrary.org/event/storytime-19/
LOCATION:Nortonville Public Library\, 407 Main St\, Nortonville\, KS\, 66060\, United States
CATEGORIES:storytime
END:VEVENT
BEGIN:VEVENT
DTSTART;TZID=America/Chicago:20220916T160000
DTEND;TZID=America/Chicago:20220916T170000
DTSTAMP:20260424T073918
CREATED:20220829T214026Z
LAST-MODIFIED:20220829T214026Z
UID:854-1663344000-1663347600@nortonvillelibrary.org
SUMMARY:Friday Fun for Kids: Pinecone Owl Craft
DESCRIPTION:Every Friday afternoon during the school year\, we will have an activity or craft for kids to do. Free and open to all ages! This week: pinecone owls
URL:http://nortonvillelibrary.org/event/friday-fun-for-kids-pinecone-owl-craft/
LOCATION:Nortonville Public Library\, 407 Main St\, Nortonville\, KS\, 66060\, United States
CATEGORIES:all ages
END:VEVENT
BEGIN:VEVENT
DTSTART;TZID=America/Chicago:20220917T180000
DTEND;TZID=America/Chicago:20220917T210000
DTSTAMP:20260424T073918
CREATED:20220903T041210Z
LAST-MODIFIED:20220903T041210Z
UID:859-1663437600-1663448400@nortonvillelibrary.org
SUMMARY:Dungeons and Dragons
DESCRIPTION:We meet on Saturdays from 6-9pm. \nEveryone is welcome. If you already have characters\, die\, etc\, bring them. Otherwise\, we’ll provide what you need!
URL:http://nortonvillelibrary.org/event/dungeons-and-dragons/
LOCATION:Nortonville Public Library\, 407 Main St\, Nortonville\, KS\, 66060\, United States
END:VEVENT
BEGIN:VEVENT
DTSTART;TZID=America/Chicago:20220918T160000
DTEND;TZID=America/Chicago:20220918T180000
DTSTAMP:20260424T073918
CREATED:20220829T172503Z
LAST-MODIFIED:20220829T174420Z
UID:838-1663516800-1663524000@nortonvillelibrary.org
SUMMARY:Adult Craft-Gourd Birdhouses(Sunday group)
DESCRIPTION:We’re making birdhouses out of dried gourds! Thanks to a couple of generous donations\, we have lots of gourds to go around\, so we’ll have a group on Sunday for those that wanted to participate but couldn’t make the Wednesday time. \nAny extra gourds that we have leftover\, we’ll be painting to try to sell at our Junkfest booth on Oct. 8. So even if you are coming one day to make your own\, if you’d like to come by the library the other day (or any time we’re open!) and make one to sell\, that would be amazing!
URL:http://nortonvillelibrary.org/event/adult-craft-birdhouse-gourds-sunday-group/
LOCATION:Nortonville Public Library\, 407 Main St\, Nortonville\, KS\, 66060\, United States
CATEGORIES:Adults
END:VEVENT
BEGIN:VEVENT
DTSTART;TZID=America/Chicago:20220921T183000
DTEND;TZID=America/Chicago:20220921T200000
DTSTAMP:20260424T073918
CREATED:20220829T173525Z
LAST-MODIFIED:20220829T173525Z
UID:843-1663785000-1663790400@nortonvillelibrary.org
SUMMARY:Adult Craft-Gourd Birdhouses (Wednesday group)
DESCRIPTION:We’re making birdhouses out of dried gourds! Thanks to a couple of generous donations\, we have lots of gourds to go around\, so we’ll have a group on Wednesday for those that wanted to participate but couldn’t make the Sunday time. \nAny extra gourds that we have leftover\, we’ll be painting to try to sell at our Junkfest booth on Oct. 8. So even if you are coming one day to make your own\, if you’d like to come by the library the other day (or any time we’re open!) and make one to sell\, that would be amazing!
URL:http://nortonvillelibrary.org/event/adult-craft-gourd-birdhouses-wednesday-group/
LOCATION:Nortonville Public Library\, 407 Main St\, Nortonville\, KS\, 66060\, United States
CATEGORIES:Adults
END:VEVENT
BEGIN:VEVENT
DTSTART;TZID=America/Chicago:20220923T160000
DTEND;TZID=America/Chicago:20220923T170000
DTSTAMP:20260424T073918
CREATED:20220921T173259Z
LAST-MODIFIED:20220921T175141Z
UID:869-1663948800-1663952400@nortonvillelibrary.org
SUMMARY:Friday Fun: Wooden Spoon Scarecrows
DESCRIPTION:Every Friday afternoon during the school year\, we will have an activity or craft for kids to do. Free and open to all ages! \nThis week: Wooden Spoon Scarecrows
URL:http://nortonvillelibrary.org/event/friday-fun-wooden-spoon-scarecrows/
LOCATION:Nortonville Public Library\, 407 Main St\, Nortonville\, KS\, 66060\, United States
CATEGORIES:all ages
END:VEVENT
BEGIN:VEVENT
DTSTART;TZID=America/Chicago:20220930T160000
DTEND;TZID=America/Chicago:20220930T170000
DTSTAMP:20260424T073918
CREATED:20220921T175055Z
LAST-MODIFIED:20220921T175055Z
UID:875-1664553600-1664557200@nortonvillelibrary.org
SUMMARY:Friday Fun: Bead Pumpkins
DESCRIPTION:Every Friday afternoon during the school year\, we will have an activity or craft for kids to do. Free and open to all ages! \nThis week: Bead Pumpkins
URL:http://nortonvillelibrary.org/event/friday-fun-bead-pumpkins/
LOCATION:Nortonville Public Library\, 407 Main St\, Nortonville\, KS\, 66060\, United States
CATEGORIES:all ages
END:VEVENT
END:VCALENDAR